BEGIN:VCALENDAR
VERSION:2.0
PRODID:-//Evangelische Pfarrgemeinde A.B. Timelkam - ECPv6.15.18//NONSGML v1.0//EN
CALSCALE:GREGORIAN
METHOD:PUBLISH
X-ORIGINAL-URL:https://www.evang-timelkam.at
X-WR-CALDESC:Veranstaltungen für Evangelische Pfarrgemeinde A.B. Timelkam
REFRESH-INTERVAL;VALUE=DURATION:PT1H
X-Robots-Tag:noindex
X-PUBLISHED-TTL:PT1H
BEGIN:VTIMEZONE
TZID:Europe/Vienna
BEGIN:DAYLIGHT
TZOFFSETFROM:+0100
TZOFFSETTO:+0200
TZNAME:CEST
DTSTART:20250330T010000
END:DAYLIGHT
BEGIN:STANDARD
TZOFFSETFROM:+0200
TZOFFSETTO:+0100
TZNAME:CET
DTSTART:20251026T010000
END:STANDARD
BEGIN:DAYLIGHT
TZOFFSETFROM:+0100
TZOFFSETTO:+0200
TZNAME:CEST
DTSTART:20260329T010000
END:DAYLIGHT
BEGIN:STANDARD
TZOFFSETFROM:+0200
TZOFFSETTO:+0100
TZNAME:CET
DTSTART:20261025T010000
END:STANDARD
BEGIN:DAYLIGHT
TZOFFSETFROM:+0100
TZOFFSETTO:+0200
TZNAME:CEST
DTSTART:20270328T010000
END:DAYLIGHT
BEGIN:STANDARD
TZOFFSETFROM:+0200
TZOFFSETTO:+0100
TZNAME:CET
DTSTART:20271031T010000
END:STANDARD
END:VTIMEZONE
BEGIN:VEVENT
DTSTART;TZID=Europe/Vienna:20260507T193000
DTEND;TZID=Europe/Vienna:20260507T213000
DTSTAMP:20260422T171954
CREATED:20260317T145723Z
LAST-MODIFIED:20260317T145751Z
UID:1081-1778182200-1778189400@www.evang-timelkam.at
SUMMARY:Ök. Bibelabend 4
DESCRIPTION:„Gott ist mehr als Herr“ – Margit Schmidinger
URL:https://www.evang-timelkam.at/event/oek-bibelabend-4/
CATEGORIES:Veranstaltung
END:VEVENT
BEGIN:VEVENT
DTSTART;TZID=Europe/Vienna:20260510T100000
DTEND;TZID=Europe/Vienna:20260510T120000
DTSTAMP:20260422T171954
CREATED:20260319T220432Z
LAST-MODIFIED:20260319T220433Z
UID:1089-1778407200-1778414400@www.evang-timelkam.at
SUMMARY:Kirchenkaffee
DESCRIPTION:
URL:https://www.evang-timelkam.at/event/kirchenkaffee-2/
LOCATION:Gemeindesaal\, Linzer Straße 42\, 4850 Timelkam
END:VEVENT
END:VCALENDAR