BEGIN:VCALENDAR
VERSION:2.0
PRODID:-//Evangelische Pfarrgemeinde A.B. Timelkam - ECPv6.15.18//NONSGML v1.0//EN
CALSCALE:GREGORIAN
METHOD:PUBLISH
X-ORIGINAL-URL:https://www.evang-timelkam.at
X-WR-CALDESC:Veranstaltungen für Evangelische Pfarrgemeinde A.B. Timelkam
REFRESH-INTERVAL;VALUE=DURATION:PT1H
X-Robots-Tag:noindex
X-PUBLISHED-TTL:PT1H
BEGIN:VTIMEZONE
TZID:Europe/Vienna
BEGIN:DAYLIGHT
TZOFFSETFROM:+0100
TZOFFSETTO:+0200
TZNAME:CEST
DTSTART:20250330T010000
END:DAYLIGHT
BEGIN:STANDARD
TZOFFSETFROM:+0200
TZOFFSETTO:+0100
TZNAME:CET
DTSTART:20251026T010000
END:STANDARD
BEGIN:DAYLIGHT
TZOFFSETFROM:+0100
TZOFFSETTO:+0200
TZNAME:CEST
DTSTART:20260329T010000
END:DAYLIGHT
BEGIN:STANDARD
TZOFFSETFROM:+0200
TZOFFSETTO:+0100
TZNAME:CET
DTSTART:20261025T010000
END:STANDARD
BEGIN:DAYLIGHT
TZOFFSETFROM:+0100
TZOFFSETTO:+0200
TZNAME:CEST
DTSTART:20270328T010000
END:DAYLIGHT
BEGIN:STANDARD
TZOFFSETFROM:+0200
TZOFFSETTO:+0100
TZNAME:CET
DTSTART:20271031T010000
END:STANDARD
END:VTIMEZONE
BEGIN:VEVENT
DTSTART;TZID=Europe/Vienna:20260326T193000
DTEND;TZID=Europe/Vienna:20260326T213000
DTSTAMP:20260422T171300
CREATED:20260317T111649Z
LAST-MODIFIED:20260317T145428Z
UID:1071-1774553400-1774560600@www.evang-timelkam.at
SUMMARY:Ök. Bibelabend 1
DESCRIPTION:“Die Prophetie im Überblick“ – Diakon Herbert Seiringer
URL:https://www.evang-timelkam.at/event/oek-bibelabend-1/
LOCATION:Pfarrsaal der katholischen Pfarre Timelkam
CATEGORIES:Veranstaltung
END:VEVENT
BEGIN:VEVENT
DTSTART;TZID=Europe/Vienna:20260329T100000
DTEND;TZID=Europe/Vienna:20260329T110000
DTSTAMP:20260422T171300
CREATED:20260324T102105Z
LAST-MODIFIED:20260324T102106Z
UID:1099-1774778400-1774782000@www.evang-timelkam.at
SUMMARY:Familiengottesdienst
DESCRIPTION:Am Palmsonntag um 10.00 Uhr findet in der Johanneskirche in Timelkam ein Familiengottesdienst statt.
URL:https://www.evang-timelkam.at/event/familiengottesdienst/
END:VEVENT
END:VCALENDAR