BEGIN:VCALENDAR
VERSION:2.0
PRODID:-//Evangelische Pfarrgemeinde A.B. Timelkam - ECPv6.15.18//NONSGML v1.0//EN
CALSCALE:GREGORIAN
METHOD:PUBLISH
X-ORIGINAL-URL:https://www.evang-timelkam.at
X-WR-CALDESC:Veranstaltungen für Evangelische Pfarrgemeinde A.B. Timelkam
REFRESH-INTERVAL;VALUE=DURATION:PT1H
X-Robots-Tag:noindex
X-PUBLISHED-TTL:PT1H
BEGIN:VTIMEZONE
TZID:Europe/Vienna
BEGIN:DAYLIGHT
TZOFFSETFROM:+0100
TZOFFSETTO:+0200
TZNAME:CEST
DTSTART:20250330T010000
END:DAYLIGHT
BEGIN:STANDARD
TZOFFSETFROM:+0200
TZOFFSETTO:+0100
TZNAME:CET
DTSTART:20251026T010000
END:STANDARD
BEGIN:DAYLIGHT
TZOFFSETFROM:+0100
TZOFFSETTO:+0200
TZNAME:CEST
DTSTART:20260329T010000
END:DAYLIGHT
BEGIN:STANDARD
TZOFFSETFROM:+0200
TZOFFSETTO:+0100
TZNAME:CET
DTSTART:20261025T010000
END:STANDARD
BEGIN:DAYLIGHT
TZOFFSETFROM:+0100
TZOFFSETTO:+0200
TZNAME:CEST
DTSTART:20270328T010000
END:DAYLIGHT
BEGIN:STANDARD
TZOFFSETFROM:+0200
TZOFFSETTO:+0100
TZNAME:CET
DTSTART:20271031T010000
END:STANDARD
END:VTIMEZONE
BEGIN:VEVENT
DTSTART;TZID=Europe/Vienna:20260204T190000
DTEND;TZID=Europe/Vienna:20260204T220000
DTSTAMP:20260424T114543
CREATED:20260115T161410Z
LAST-MODIFIED:20260115T161410Z
UID:999-1770231600-1770242400@www.evang-timelkam.at
SUMMARY:Segensfeier für alle Paare
DESCRIPTION:Herzliche Einladung zur Segensfeier für alle Paare. \n\n\n\nBernhard Pfusterer und Gert Smetanig laden alle Paare die sich einen Segen für ihren gemeinsamen Weg abholen möchten zu einem zauberhaften Abend ein. Magische Momente mit Gert und dem Timelkamer Gesangsensemble schenken uns einen gemütlichen\, schönen Abend zu zweit. \n\n\n\nBeginn der Segnung ist um 19:00 UhrDer Zauberabend beginnt um 20:00 Uhr.
URL:https://www.evang-timelkam.at/event/segensfeier-fuer-alle-paare/
LOCATION:Pfarrsaal der Katholischen Pfarrkirche Timelkam\, Mozartstraße 1\, Timelkam\, Oberösterreich\, 4850\, Österreich
END:VEVENT
END:VCALENDAR