BEGIN:VCALENDAR
VERSION:2.0
PRODID:-//Evangelische Pfarrgemeinde A.B. Timelkam - ECPv6.15.18//NONSGML v1.0//EN
CALSCALE:GREGORIAN
METHOD:PUBLISH
X-ORIGINAL-URL:https://www.evang-timelkam.at
X-WR-CALDESC:Veranstaltungen für Evangelische Pfarrgemeinde A.B. Timelkam
REFRESH-INTERVAL;VALUE=DURATION:PT1H
X-Robots-Tag:noindex
X-PUBLISHED-TTL:PT1H
BEGIN:VTIMEZONE
TZID:Europe/Vienna
BEGIN:DAYLIGHT
TZOFFSETFROM:+0100
TZOFFSETTO:+0200
TZNAME:CEST
DTSTART:20250330T010000
END:DAYLIGHT
BEGIN:STANDARD
TZOFFSETFROM:+0200
TZOFFSETTO:+0100
TZNAME:CET
DTSTART:20251026T010000
END:STANDARD
BEGIN:DAYLIGHT
TZOFFSETFROM:+0100
TZOFFSETTO:+0200
TZNAME:CEST
DTSTART:20260329T010000
END:DAYLIGHT
BEGIN:STANDARD
TZOFFSETFROM:+0200
TZOFFSETTO:+0100
TZNAME:CET
DTSTART:20261025T010000
END:STANDARD
BEGIN:DAYLIGHT
TZOFFSETFROM:+0100
TZOFFSETTO:+0200
TZNAME:CEST
DTSTART:20270328T010000
END:DAYLIGHT
BEGIN:STANDARD
TZOFFSETFROM:+0200
TZOFFSETTO:+0100
TZNAME:CET
DTSTART:20271031T010000
END:STANDARD
END:VTIMEZONE
BEGIN:VEVENT
DTSTART;TZID=Europe/Vienna:20260116T190000
DTEND;TZID=Europe/Vienna:20260116T210000
DTSTAMP:20260424T131148
CREATED:20260115T162622Z
LAST-MODIFIED:20260115T162622Z
UID:1001-1768590000-1768597200@www.evang-timelkam.at
SUMMARY:80 Jahre Frieden - Vortrag von Volker Petri
DESCRIPTION:Pfarrer Volker Petri erzählt über die Flucht der siebenbürgisch-sächsischen Flüchtlinge anlässlich des 80. Gedenktages.
URL:https://www.evang-timelkam.at/event/80-jahre-frieden-vortrag-von-volker-petri/
LOCATION:Landesmusikschule Frankenmarkt\, Hauptstraße 81\, Frankenmarkt\, Oberösterreich\, 4890\, Austria
END:VEVENT
BEGIN:VEVENT
DTSTART;TZID=Europe/Vienna:20260119T083000
DTEND;TZID=Europe/Vienna:20260119T093000
DTSTAMP:20260424T131148
CREATED:20260114T100456Z
LAST-MODIFIED:20260115T160627Z
UID:986-1768811400-1768815000@www.evang-timelkam.at
SUMMARY:Sesselgymnastik
DESCRIPTION:Sesselgymnastik ist eine wunderbare Möglichkeit für alle Frauen und Männer um lange Freude in Bewegung zu bleiben.Die Übungen werden dabei mit Hilfe eines Sessels praktiziert und eignen sich auch für alledie eine körperliche Disbalance haben.Leichte Körperübungen\, Achtsamkeit auf Bewegung und Atmung sowie Mobilisierung der Wirbelsäule sind fixer Bestandteil des Übens und daher für jedes Alter geeignet.Mein Name ist Ulrike Eitzinger\, ich bin ausgebildete Sesselgymnastiklehrerin \n\n\n\nMaterial: Wenn du auf dem Boden liegen kannst\, dann nimm dir bitte eine Yogamatte mit. Bitte bequeme Kleidung\, auf jeden Fall Socken anziehen. \n\n\n\nAnmeldung: Bitte telefonisch bei Uli
URL:https://www.evang-timelkam.at/event/sesselgymnastik/
LOCATION:Gemeindesaal\, Linzer Straße 42\, 4850 Timelkam
CATEGORIES:Veranstaltung
END:VEVENT
BEGIN:VEVENT
DTSTART;TZID=Europe/Vienna:20260126T083000
DTEND;TZID=Europe/Vienna:20260126T093000
DTSTAMP:20260424T131148
CREATED:20260115T160921Z
LAST-MODIFIED:20260115T160922Z
UID:997-1769416200-1769419800@www.evang-timelkam.at
SUMMARY:Sesselgymnastik
DESCRIPTION:Sesselgymnastik ist eine wunderbare Möglichkeit für alle Frauen und Männer um lange Freude in Bewegung zu bleiben.Die Übungen werden dabei mit Hilfe eines Sessels praktiziert und eignen sich auch für alledie eine körperliche Disbalance haben.Leichte Körperübungen\, Achtsamkeit auf Bewegung und Atmung sowie Mobilisierung der Wirbelsäule sind fixer Bestandteil des Übens und daher für jedes Alter geeignet.Mein Name ist Ulrike Eitzinger\, ich bin ausgebildete Sesselgymnastiklehrerin \n\n\n\nMaterial: Wenn du auf dem Boden liegen kannst\, dann nimm dir bitte eine Yogamatte mit. Bitte bequeme Kleidung\, auf jeden Fall Socken anziehen. \n\n\n\nAnmeldung: Bitte telefonisch bei Uli
URL:https://www.evang-timelkam.at/event/sesselgymnastik-2/
LOCATION:Gemeindesaal\, Linzer Straße 42\, 4850 Timelkam
END:VEVENT
END:VCALENDAR